BEGIN:VCALENDAR
VERSION:2.0
PRODID:-//OPS - ECPv6.2.9//NONSGML v1.0//EN
CALSCALE:GREGORIAN
METHOD:PUBLISH
X-WR-CALNAME:OPS
X-ORIGINAL-URL:https://opstudiohk.com
X-WR-CALDESC:Events for OPS
REFRESH-INTERVAL;VALUE=DURATION:PT1H
X-Robots-Tag:noindex
X-PUBLISHED-TTL:PT1H
BEGIN:VTIMEZONE
TZID:Asia/Hong_Kong
BEGIN:STANDARD
TZOFFSETFROM:+0800
TZOFFSETTO:+0800
TZNAME:HKT
DTSTART:20230101T000000
END:STANDARD
END:VTIMEZONE
BEGIN:VEVENT
DTSTART;TZID=Asia/Hong_Kong:20231218T090000
DTEND;TZID=Asia/Hong_Kong:20231221T173000
DTSTAMP:20260421T231656
CREATED:20231010T101033Z
LAST-MODIFIED:20231201T133742Z
UID:10000433-1702890000-1703179800@opstudiohk.com
SUMMARY:EXOS Performance Mentorship Phase 1
DESCRIPTION:EXOS\, the global leader in human performance. For over two decades EXOS has stood side by side with those driven to rise higher in life. EXOS has pioneered the field of human performance\, bringing together an integrated approach for athletes. Twenty years later\, they are coaching hundreds of thousands of people on a monthly basis\, from athletes to office workers and everyone in between. \nEXOS Performance Mentorship Phase 1 \nThe three-part performance mentorship series introduces you to the training system we use to help optimize any client’s performance.  This four-day mentorship is the first step in immersing yourself in the unique methodology and reasoning behind the systems used to help some of the world’s top athletes reach their goals. You’ll learn from coaches who use this methodology daily\, covering everything from plyometrics and multidirectional speed to regeneration and nutrition. \nTopics Covered: \n\nExos methodology\nPrehabilitation\, pillar strength\, and movement preparation\nPlyometrics and acceleration\nAbsolute and multidirectional speed\nStrength and rotary power\nIntelligent energy systems profiling\nRegeneration\nFunctional Movement Screen\n\nWhat you Receive: \n\nPerformance Specialist Course (value USD1\,130)\n4-days of live EXOS education\n\nFees \nUSD1\,350 – before December 3\nUSD1\,899 December 4 – December 18 \nCLICK HERE TO REGISTER
URL:https://opstudiohk.com/opscourse/exos-performance-mentorship-phase-1/
LOCATION:ESF Island School\, 20 Borrett Road Mid-Levels\,\, Hong Kong
CATEGORIES:Exos
ATTACH;FMTTYPE=image/png:https://opstudiohk.com/wp-content/uploads/2023/10/Course-Image-Exos.png
ORGANIZER;CN="OPS Central":MAILTO:info@opstudiohk.com
END:VEVENT
END:VCALENDAR