BEGIN:VCALENDAR
VERSION:2.0
PRODID:-//OPS - ECPv6.2.9//NONSGML v1.0//EN
CALSCALE:GREGORIAN
METHOD:PUBLISH
X-WR-CALNAME:OPS
X-ORIGINAL-URL:https://opstudiohk.com
X-WR-CALDESC:Events for OPS
REFRESH-INTERVAL;VALUE=DURATION:PT1H
X-Robots-Tag:noindex
X-PUBLISHED-TTL:PT1H
BEGIN:VTIMEZONE
TZID:Asia/Hong_Kong
BEGIN:STANDARD
TZOFFSETFROM:+0800
TZOFFSETTO:+0800
TZNAME:HKT
DTSTART:20200101T000000
END:STANDARD
END:VTIMEZONE
BEGIN:VEVENT
DTSTART;TZID=Asia/Hong_Kong:20251012T090000
DTEND;TZID=Asia/Hong_Kong:20251012T170000
DTSTAMP:20260421T202500
CREATED:20250825T062015Z
LAST-MODIFIED:20250828T082655Z
UID:10000669-1760259600-1760288400@opstudiohk.com
SUMMARY:TRX STC : English
DESCRIPTION:Designed by experts for the fitness professional who wants to harness the full potential of the TRX Suspension Trainer\, this course teaches you how to incorporate the TRX into your clients’ programs and how to grow your training business. In this class you’ll learn over 70 TRX exercises\, in detail\, as well as all the benefits and target muscles of the exercises; how to properly perform and “cue” the exercise; and modifications and progressions to adapt the exercises to every fitness level. You’ll also learn how to design your own TRX programs by following suspension training principles\, using smart TRX exercise selection\, and studying case scenarios to challenge your knowledge. After completing the course participants should be able to: \n\nUnderstand why TRX Suspension Training is a unique training method for sports performance and general fitness\nUnderstand the proper assembly of the TRX in a variety of situations\nBe able to utilize the TRX efficiently and effectively in one-on-one training and small group\n\nCourse Materials: Participants will receive a TRX Suspension Training Course manual.
URL:https://opstudiohk.com/opscourse/trx-stc-e-2510-tst/
LOCATION:OPS – Tsim Sha Tsui\, 16/F\, CheukNang Centre\, 9 Hillwood Road\, Tsim Sha Tsui\, Hong Kong
CATEGORIES:Promotion,STC,TRX
ATTACH;FMTTYPE=image/jpeg:https://opstudiohk.com/wp-content/uploads/2022/08/TRX-STC-Live-1.jpg
ORGANIZER;CN="OPS Tsim Sha Tsui":MAILTO:info.tst@opstudiohk.com
GEO:22.3028511;114.1726897
X-APPLE-STRUCTURED-LOCATION;VALUE=URI;X-ADDRESS=OPS – Tsim Sha Tsui 16/F CheukNang Centre 9 Hillwood Road Tsim Sha Tsui Hong Kong;X-APPLE-RADIUS=500;X-TITLE=16/F\, CheukNang Centre\, 9 Hillwood Road:geo:114.1726897,22.3028511
END:VEVENT
BEGIN:VEVENT
DTSTART;TZID=Asia/Hong_Kong:20250817T090000
DTEND;TZID=Asia/Hong_Kong:20250817T170000
DTSTAMP:20260421T202500
CREATED:20250603T060633Z
LAST-MODIFIED:20250603T060633Z
UID:10000646-1755421200-1755450000@opstudiohk.com
SUMMARY:TRX GTC TRX小組訓練課程
DESCRIPTION:  \n在先前課程的基礎懸吊訓練知識的基礎上，參加者將繼續提高其教練技能，以有效地領導團體訓練計劃。參加者將學會如何領導及修改可以用作個人訓練、小型或大型團體訓練的兩組團體訓練方案 (TRX Fit 及 TRX Strong) \n完成課程後，參加者可以: \n\n應用自己的TRX知識提供有質素的團體懸吊訓練。\n指導多人的同時，為所有健身水平的人士營造有趣及個人化的訓練體驗。\n以兩種不同的形式領導和建立“插入式”懸吊訓練\n基於力量的訓練\n高強度間歇訓練\n\n前提條件: 團體訓練課程在TRX的教育歷程中更進一步，所以參加者應具備懸吊課程的基本知識。 \n我們強烈建議參加者在參加此課程前，先完成TRX懸吊訓練課程 (STC)。 \nContinue your TRX Education Journey- Expand your marketability and master group coaching techniques in this hands-on eight-hour course. \n\n\nBuilding on the foundational suspension training knowledge from prior courses\, you will continue to advance your coaching skills to effectively lead group training programs. \nYou will learn how to lead and modify two group suspension training workouts that can be used in any personal training\, and small or large group training sessions; TRX Fit & TRX Strong. \nUpon completion of this course\, you will be able to: \n\nApply your TRX coaching knowledge to deliver quality group suspension training workouts.\nManage the complexity of coaching multiple people\, while creating a fun and personalized training experience for all fitness\nLead and build “drop-in” style suspension training workouts in two different formats:\nTRX Strong: a strength-based workout \nTRX Fit: a high-intensity interval workout \n\nPREREQUISITES: The Group Training Course (GTC) is farther along the TRX Education Journey\, and prior knowledge of the TRX Suspension Trainer is assumed.  \nWe strongly recommended having taken the TRX Suspension Training Course (STC) prior to attending this course.
URL:https://opstudiohk.com/opscourse/trx-gtc-c-2508-tst/
LOCATION:OPS – Tsim Sha Tsui\, 16/F\, CheukNang Centre\, 9 Hillwood Road\, Tsim Sha Tsui\, Hong Kong
CATEGORIES:GTC,TRX
ATTACH;FMTTYPE=image/jpeg:https://opstudiohk.com/wp-content/uploads/2022/08/TRX-GTC-Live.jpg
ORGANIZER;CN="OPS Tsim Sha Tsui":MAILTO:info.tst@opstudiohk.com
GEO:22.3028511;114.1726897
X-APPLE-STRUCTURED-LOCATION;VALUE=URI;X-ADDRESS=OPS – Tsim Sha Tsui 16/F CheukNang Centre 9 Hillwood Road Tsim Sha Tsui Hong Kong;X-APPLE-RADIUS=500;X-TITLE=16/F\, CheukNang Centre\, 9 Hillwood Road:geo:114.1726897,22.3028511
END:VEVENT
BEGIN:VEVENT
DTSTART;TZID=Asia/Hong_Kong:20250608T090000
DTEND;TZID=Asia/Hong_Kong:20250608T170000
DTSTAMP:20260421T202500
CREATED:20250430T024113Z
LAST-MODIFIED:20250522T081924Z
UID:10000622-1749373200-1749402000@opstudiohk.com
SUMMARY:TRX FTC TRX功能性運動訓練課程
DESCRIPTION:參加者將會學到如何運用TRX懸吊系統及彈力棍系統上運用TRX基本運動訓練方法來教導及進行調節，然後應用於各種訓練設備上。除了懸吊訓練及彈力棍訓練外，其他訓練方法包括: 啞鈴、藥球、沙包、戰繩及帶。 \n完成課程後，參加者可以: \n\n將基本訓練方法應用在TRX懸吊系統及TRX彈力棍系統上，以更好地調節不同的訓練強度。\n整合進階的TRX教導及提示技巧。\n領導預先的計劃、多元化形態及循環訓練。\n\n當參加者完成TRX®功能性運動訓練課程後，將收到TRX電子版的資格認證，可打印出來作為記錄並兌換成CECs。參加者可在資格認證中找到提供者編號和學分，並在提供者的網站上兌換。 \nParticipants will learn to leverage TRX’s movement based training approach on the TRX Suspension Trainer and RIP Trainer to teach Foundational Movements and progressions and then apply to a variety of training equipment. Beyond Suspension Training and Rip Training\, these other modalities may include: Kettlebells\, Medicine Balls\, Sandbags\, Battling Ropes and Bands. \nUpon competition of this course you will be able to: \n\nApply foundational movement methodology on the TRX Suspension Trainer and TRX Rip Trainer to better modify intensity for a variety of modalities\nIntegrate advanced TRX coaching and cueing techniques\nLead pre-programmed\, multimodality\, circuit-based training workouts\n\nUpon completion of a TRX® Functional Training Course\, you will receive an electronic version of your TRX Qualification\, which can be printed for your records and redeemed for CECs. The provider number and number of credits can be found on your Qualification and redeemed on the provider’s website.
URL:https://opstudiohk.com/opscourse/trx-ftc-c-2506-tst/
LOCATION:OPS – Tsim Sha Tsui\, 16/F\, CheukNang Centre\, 9 Hillwood Road\, Tsim Sha Tsui\, Hong Kong
CATEGORIES:FTC,TRX
ATTACH;FMTTYPE=image/jpeg:https://opstudiohk.com/wp-content/uploads/2024/04/TRX-Functional-Training.jpg
ORGANIZER;CN="OPS Tsim Sha Tsui":MAILTO:info.tst@opstudiohk.com
GEO:22.3028511;114.1726897
X-APPLE-STRUCTURED-LOCATION;VALUE=URI;X-ADDRESS=OPS – Tsim Sha Tsui 16/F CheukNang Centre 9 Hillwood Road Tsim Sha Tsui Hong Kong;X-APPLE-RADIUS=500;X-TITLE=16/F\, CheukNang Centre\, 9 Hillwood Road:geo:114.1726897,22.3028511
END:VEVENT
BEGIN:VEVENT
DTSTART;TZID=Asia/Hong_Kong:20250518T090000
DTEND;TZID=Asia/Hong_Kong:20250518T170000
DTSTAMP:20260421T202500
CREATED:20250220T030854Z
LAST-MODIFIED:20250506T024509Z
UID:10000601-1747558800-1747587600@opstudiohk.com
SUMMARY:TRX STC TRX懸吊訓練課程
DESCRIPTION:STC(Suspension Training Course)為TRX所設立的訓練課程，適合對象為任何對懸吊訓練有興趣者，課程內容為教授TRX使用的基本概論、常用的上下半身訓練及核心訓練動作，提供各種懸吊方案及處方概論，讓喜愛的朋友可以在專業教練指導下安全有效地進行TRX懸吊訓練。 \nDesigned by experts for the fitness professional who wants to harness the full potential of the TRX Suspension Trainer\, this course teaches you how to incorporate the TRX into your clients’ programs and how to grow your training business. In this class you’ll learn over 70 TRX exercises\, in detail\, as well as all the benefits and target muscles of the exercises; how to properly perform and “cue” the exercise; and modifications and progressions to adapt the exercises to every fitness level. You’ll also learn how to design your own TRX programs by following suspension training principles\, using smart TRX exercise selection\, and studying case scenarios to challenge your knowledge. \nAfter completing the course participants should be able to: \n\nUnderstand why TRX Suspension Training is a unique training method for sports performance\, and general fitness\nUnderstand the proper assembly of the TRX in a variety of situations\nBe able to utilize the TRX efficiently and effectively in one-on-one training and small group\n\nCourse Materials: Participants will receive a TRX Suspension Training Course manual.
URL:https://opstudiohk.com/opscourse/trx-stc-c-2505-tst/
LOCATION:OPS – Tsim Sha Tsui\, 16/F\, CheukNang Centre\, 9 Hillwood Road\, Tsim Sha Tsui\, Hong Kong
CATEGORIES:STC,TRX
ATTACH;FMTTYPE=image/jpeg:https://opstudiohk.com/wp-content/uploads/2024/02/TRX-STC.jpg
ORGANIZER;CN="OPS Tsim Sha Tsui":MAILTO:info.tst@opstudiohk.com
GEO:22.3028511;114.1726897
X-APPLE-STRUCTURED-LOCATION;VALUE=URI;X-ADDRESS=OPS – Tsim Sha Tsui 16/F CheukNang Centre 9 Hillwood Road Tsim Sha Tsui Hong Kong;X-APPLE-RADIUS=500;X-TITLE=16/F\, CheukNang Centre\, 9 Hillwood Road:geo:114.1726897,22.3028511
END:VEVENT
BEGIN:VEVENT
DTSTART;TZID=Asia/Hong_Kong:20250223T090000
DTEND;TZID=Asia/Hong_Kong:20250223T170000
DTSTAMP:20260421T202500
CREATED:20241204T033505Z
LAST-MODIFIED:20250107T093359Z
UID:10000572-1740301200-1740330000@opstudiohk.com
SUMMARY:TRX FTC TRX功能性運動訓練課程
DESCRIPTION:參加者將會學到如何運用TRX懸吊系統及彈力棍系統上運用TRX基本運動訓練方法來教導及進行調節，然後應用於各種訓練設備上。除了懸吊訓練及彈力棍訓練外，其他訓練方法包括: 啞鈴、藥球、沙包、戰繩及帶。 \n完成課程後，參加者可以: \n\n將基本訓練方法應用在TRX懸吊系統及TRX彈力棍系統上，以更好地調節不同的訓練強度。\n整合進階的TRX教導及提示技巧。\n領導預先的計劃、多元化形態及循環訓練。\n\n當參加者完成TRX®功能性運動訓練課程後，將收到TRX電子版的資格認證，可打印出來作為記錄並兌換成CECs。參加者可在資格認證中找到提供者編號和學分，並在提供者的網站上兌換。 \nParticipants will learn to leverage TRX’s movement based training approach on the TRX Suspension Trainer and RIP Trainer to teach Foundational Movements and progressions and then apply to a variety of training equipment. Beyond Suspension Training and Rip Training\, these other modalities may include: Kettlebells\, Medicine Balls\, Sandbags\, Battling Ropes and Bands. \nUpon competition of this course you will be able to: \n\nApply foundational movement methodology on the TRX Suspension Trainer and TRX Rip Trainer to better modify intensity for a variety of modalities\nIntegrate advanced TRX coaching and cueing techniques\nLead pre-programmed\, multimodality\, circuit-based training workouts\n\nUpon completion of a TRX® Functional Training Course\, you will receive an electronic version of your TRX Qualification\, which can be printed for your records and redeemed for CECs. The provider number and number of credits can be found on your Qualification and redeemed on the provider’s website.
URL:https://opstudiohk.com/opscourse/trx-ftc-c-2502-tst/
LOCATION:OPS – Tsim Sha Tsui\, 16/F\, CheukNang Centre\, 9 Hillwood Road\, Tsim Sha Tsui\, Hong Kong
CATEGORIES:FTC,Promotion,TRX
ATTACH;FMTTYPE=image/jpeg:https://opstudiohk.com/wp-content/uploads/2024/04/TRX-Functional-Training.jpg
ORGANIZER;CN="OPS Tsim Sha Tsui":MAILTO:info.tst@opstudiohk.com
GEO:22.3028511;114.1726897
X-APPLE-STRUCTURED-LOCATION;VALUE=URI;X-ADDRESS=OPS – Tsim Sha Tsui 16/F CheukNang Centre 9 Hillwood Road Tsim Sha Tsui Hong Kong;X-APPLE-RADIUS=500;X-TITLE=16/F\, CheukNang Centre\, 9 Hillwood Road:geo:114.1726897,22.3028511
END:VEVENT
BEGIN:VEVENT
DTSTART;TZID=Asia/Hong_Kong:20241222T090000
DTEND;TZID=Asia/Hong_Kong:20241222T170000
DTSTAMP:20260421T202500
CREATED:20241003T024025Z
LAST-MODIFIED:20241003T024025Z
UID:10000551-1734858000-1734886800@opstudiohk.com
SUMMARY:TRX FTC TRX功能性運動訓練課程
DESCRIPTION:參加者將會學到如何運用TRX懸吊系統及彈力棍系統上運用TRX基本運動訓練方法來教導及進行調節，然後應用於各種訓練設備上。除了懸吊訓練及彈力棍訓練外，其他訓練方法包括: 啞鈴、藥球、沙包、戰繩及帶。 \n完成課程後，參加者可以: \n\n將基本訓練方法應用在TRX懸吊系統及TRX彈力棍系統上，以更好地調節不同的訓練強度。\n整合進階的TRX教導及提示技巧。\n領導預先的計劃、多元化形態及循環訓練。\n\n當參加者完成TRX®功能性運動訓練課程後，將收到TRX電子版的資格認證，可打印出來作為記錄並兌換成CECs。參加者可在資格認證中找到提供者編號和學分，並在提供者的網站上兌換。 \nParticipants will learn to leverage TRX’s movement based training approach on the TRX Suspension Trainer and RIP Trainer to teach Foundational Movements and progressions and then apply to a variety of training equipment. Beyond Suspension Training and Rip Training\, these other modalities may include: Kettlebells\, Medicine Balls\, Sandbags\, Battling Ropes and Bands. \nUpon competition of this course you will be able to: \n\nApply foundational movement methodology on the TRX Suspension Trainer and TRX Rip Trainer to better modify intensity for a variety of modalities\nIntegrate advanced TRX coaching and cueing techniques\nLead pre-programmed\, multimodality\, circuit-based training workouts\n\nUpon completion of a TRX® Functional Training Course\, you will receive an electronic version of your TRX Qualification\, which can be printed for your records and redeemed for CECs. The provider number and number of credits can be found on your Qualification and redeemed on the provider’s website.
URL:https://opstudiohk.com/opscourse/trx-ftc-2412-tst/
LOCATION:OPS – Tsim Sha Tsui\, 16/F\, CheukNang Centre\, 9 Hillwood Road\, Tsim Sha Tsui\, Hong Kong
CATEGORIES:FTC,TRX
ATTACH;FMTTYPE=image/jpeg:https://opstudiohk.com/wp-content/uploads/2024/04/TRX-Functional-Training.jpg
ORGANIZER;CN="OPS Tsim Sha Tsui":MAILTO:info.tst@opstudiohk.com
GEO:22.3028511;114.1726897
X-APPLE-STRUCTURED-LOCATION;VALUE=URI;X-ADDRESS=OPS – Tsim Sha Tsui 16/F CheukNang Centre 9 Hillwood Road Tsim Sha Tsui Hong Kong;X-APPLE-RADIUS=500;X-TITLE=16/F\, CheukNang Centre\, 9 Hillwood Road:geo:114.1726897,22.3028511
END:VEVENT
BEGIN:VEVENT
DTSTART;TZID=Asia/Hong_Kong:20241020T090000
DTEND;TZID=Asia/Hong_Kong:20241020T170000
DTSTAMP:20260421T202500
CREATED:20240704T083919Z
LAST-MODIFIED:20241016T070151Z
UID:10000518-1729414800-1729443600@opstudiohk.com
SUMMARY:TRX STC TRX懸吊訓練課程
DESCRIPTION:STC(Suspension Training Course)為TRX所設立的訓練課程，適合對象為任何對懸吊訓練有興趣者，課程內容為教授TRX使用的基本概論、常用的上下半身訓練及核心訓練動作，提供各種懸吊方案及處方概論，讓喜愛的朋友可以在專業教練指導下安全有效地進行TRX懸吊訓練。 \nDesigned by experts for the fitness professional who wants to harness the full potential of the TRX Suspension Trainer\, this course teaches you how to incorporate the TRX into your clients’ programs and how to grow your training business. In this class you’ll learn over 70 TRX exercises\, in detail\, as well as all the benefits and target muscles of the exercises; how to properly perform and “cue” the exercise; and modifications and progressions to adapt the exercises to every fitness level. You’ll also learn how to design your own TRX programs by following suspension training principles\, using smart TRX exercise selection\, and studying case scenarios to challenge your knowledge. \nAfter completing the course participants should be able to: \n\nUnderstand why TRX Suspension Training is a unique training method for sports performance\, and general fitness\nUnderstand the proper assembly of the TRX in a variety of situations\nBe able to utilize the TRX efficiently and effectively in one-on-one training and small group\n\nCourse Materials: Participants will receive a TRX Suspension Training Course manual.
URL:https://opstudiohk.com/opscourse/trx-stc-2409-tst/
LOCATION:OPS – Tsim Sha Tsui\, 16/F\, CheukNang Centre\, 9 Hillwood Road\, Tsim Sha Tsui\, Hong Kong
CATEGORIES:STC,TRX
ATTACH;FMTTYPE=image/jpeg:https://opstudiohk.com/wp-content/uploads/2024/02/TRX-STC.jpg
ORGANIZER;CN="OPS Tsim Sha Tsui":MAILTO:info.tst@opstudiohk.com
GEO:22.3028511;114.1726897
X-APPLE-STRUCTURED-LOCATION;VALUE=URI;X-ADDRESS=OPS – Tsim Sha Tsui 16/F CheukNang Centre 9 Hillwood Road Tsim Sha Tsui Hong Kong;X-APPLE-RADIUS=500;X-TITLE=16/F\, CheukNang Centre\, 9 Hillwood Road:geo:114.1726897,22.3028511
END:VEVENT
BEGIN:VEVENT
DTSTART;TZID=Asia/Hong_Kong:20201004T090000
DTEND;TZID=Asia/Hong_Kong:20201004T170000
DTSTAMP:20260421T202500
CREATED:20200730T053943Z
LAST-MODIFIED:20201001T112609Z
UID:10000160-1601802000-1601830800@opstudiohk.com
SUMMARY:TRX STC : English
DESCRIPTION:Designed by experts for the fitness professional who wants to harness the full potential of the TRX Suspension Trainer\, this course teaches you how to incorporate the TRX into your clients’ programs and how to grow your training business. In this class you’ll learn over 70 TRX exercises\, in detail\, as well as all the benefits and target muscles of the exercises; how to properly perform and “cue” the exercise; and modifications and progressions to adapt the exercises to every fitness level. You’ll also learn how to design your own TRX programs by following suspension training principles\, using smart TRX exercise selection\, and studying case scenarios to challenge your knowledge. After completing the course participants should be able to: \n\nUnderstand why TRX Suspension Training is a unique training method for sports performance and general fitness\nUnderstand the proper assembly of the TRX in a variety of situations\nBe able to utilize the TRX efficiently and effectively in one-on-one training and small group\n\nCourse Materials: Participants will receive a TRX Suspension Training Course manual.
URL:https://opstudiohk.com/opscourse/trx-stc-2010/
LOCATION:OPS – Central\, 1-2/F World Trust Tower\, 50 Stanley Street Central\,\, Hong Kong
CATEGORIES:TRX
ATTACH;FMTTYPE=image/png:https://opstudiohk.com/wp-content/uploads/2020/07/TRX-STC.png
ORGANIZER;CN="OPS Central":MAILTO:info@opstudiohk.com
GEO:22.2827827;114.1550532
X-APPLE-STRUCTURED-LOCATION;VALUE=URI;X-ADDRESS=OPS – Central 1-2/F World Trust Tower 50 Stanley Street Central Hong Kong;X-APPLE-RADIUS=500;X-TITLE=1-2/F World Trust Tower\, 50 Stanley Street Central\,:geo:114.1550532,22.2827827
END:VEVENT
END:VCALENDAR