BEGIN:VCALENDAR
VERSION:2.0
PRODID:-//OPS - ECPv6.2.9//NONSGML v1.0//EN
CALSCALE:GREGORIAN
METHOD:PUBLISH
X-ORIGINAL-URL:https://opstudiohk.com
X-WR-CALDESC:Events for OPS
REFRESH-INTERVAL;VALUE=DURATION:PT1H
X-Robots-Tag:noindex
X-PUBLISHED-TTL:PT1H
BEGIN:VTIMEZONE
TZID:Asia/Hong_Kong
BEGIN:STANDARD
TZOFFSETFROM:+0800
TZOFFSETTO:+0800
TZNAME:HKT
DTSTART:20260101T000000
END:STANDARD
END:VTIMEZONE
BEGIN:VEVENT
DTSTART;TZID=Asia/Hong_Kong:20260425T090000
DTEND;TZID=Asia/Hong_Kong:20260426T170000
DTSTAMP:20260425T032938
CREATED:20260227T044159Z
LAST-MODIFIED:20260417T042920Z
UID:10000724-1777107600-1777222800@opstudiohk.com
SUMMARY:Stick Mobility Level 1 Certification Course
DESCRIPTION:The Level 1 Certification Training Course is a two-day\, in-person education course to learn our methods of increasing flexibility\, strength\, and coordination. We’ll take you through three phases of joint mobilization\, strength training\, and active stretching techniques. \nYou’ll use the Stick Mobility Training Sticks as a tool to learn how to improve range of motion\, muscle activation\, full-body strength\, and body awareness. You’ll learn the five scientific principles upon which our training system is built and the warm-up and recovery methods used by top trainers\, professional athletes\, and medical practitioners. \nWe’ll show you how to integrate these aspects into your one-on-one and group training sessions. You’ll acquire the knowledge to improve movement pattern quality to effect lasting positive changes in mobility\, earn CEU’s\, and be certified as a Stick Mobility Coach. \nCourse attendees often include Personal Trainers\, Strength & Conditioning Coaches\, Physical Therapists\, Chiropractors\, Yoga\, Pilates Instructors\, and personal users looking to deepen their mobility knowledge and skills. Attendees usually have a range of Stick Mobility experiences\, fitness\, and age levels. All are welcome. \nWhat’s included: \n\nStick Mobility: 2 x long and 1 short\n14-Hours of training by Stick Mobility Master Instructor\nDigital Level 1 Coaching Manual\nLifetime access to Online Training and Coaching Videos\nBecome a Certified Stick Mobility Coach\, including an official Certificate of Completion\nEarn CEUs: AFAA 1.3\, NASM 1.3\, ISSA 14\, NCEP 1.3
URL:https://opstudiohk.com/opscourse/sti-lv1-e-2604-ctl/
LOCATION:OPS – Central\, 1-2/F World Trust Tower\, 50 Stanley Street Central\,\, Hong Kong
CATEGORIES:Stick Mobility
ATTACH;FMTTYPE=image/jpeg:https://opstudiohk.com/wp-content/uploads/2026/02/Website-Course-Image-Mobility-Stick.jpg
ORGANIZER;CN="OPS Central":MAILTO:info@opstudiohk.com
GEO:22.2827827;114.1550532
X-APPLE-STRUCTURED-LOCATION;VALUE=URI;X-ADDRESS=OPS – Central 1-2/F World Trust Tower 50 Stanley Street Central Hong Kong;X-APPLE-RADIUS=500;X-TITLE=1-2/F World Trust Tower\, 50 Stanley Street Central\,:geo:114.1550532,22.2827827
END:VEVENT
END:VCALENDAR