BEGIN:VCALENDAR
VERSION:2.0
PRODID:-//OPS - ECPv6.2.9//NONSGML v1.0//EN
CALSCALE:GREGORIAN
METHOD:PUBLISH
X-WR-CALNAME:OPS
X-ORIGINAL-URL:https://opstudiohk.com
X-WR-CALDESC:Events for OPS
REFRESH-INTERVAL;VALUE=DURATION:PT1H
X-Robots-Tag:noindex
X-PUBLISHED-TTL:PT1H
BEGIN:VTIMEZONE
TZID:Asia/Hong_Kong
BEGIN:STANDARD
TZOFFSETFROM:+0800
TZOFFSETTO:+0800
TZNAME:HKT
DTSTART:20250101T000000
END:STANDARD
END:VTIMEZONE
BEGIN:VEVENT
DTSTART;TZID=Asia/Hong_Kong:20250213T183000
DTEND;TZID=Asia/Hong_Kong:20250320T213000
DTSTAMP:20260423T023708
CREATED:20241206T012649Z
LAST-MODIFIED:20251110T063145Z
UID:10000574-1739471400-1742506200@opstudiohk.com
SUMMARY:NASM-CPT Certified Personal Trainer Course: English
DESCRIPTION:This live course has passed. Please click the following link to find our upcoming NASM Live Courses.\nLink to Upcoming NASM Live Course Schedule\nNo other fitness-professional course so powerfully fuses science and practical application! The rapid growth of the personal-training industry has spurred a multitude of approaches to fitness education and training. Setting the international standard for the industry\, NASM has developed a comprehensive system that integrates proven techniques and real science into one easy-to-use\, universal programming method – Optimum Performance Training (OPT™). From kinetic chain assessments through integrated programme design\, students explore the science behind NASMs unique OPT™ model and gain a dynamic understanding of the systems and techniques used to design safe\, effective programs for clients of all levels.  \nThe course includes: \n\nLive workshop 6 Thursday nights from 6:30 pm to 9:30 pm\nDates: Feb 13\, 20\, 27\, Mar 6\, 13 & 20\, 2025\nTextbook: NASM Essentials of Personal Fitness Training\nNASM-CPT online video support\nUnlimited Online Practice Exams\nOnline Final Exam (3 attempts)\n\nThese courses are held at our Central Studio
URL:https://opstudiohk.com/opscourse/nasm-cpt-e-2502-ctl/
LOCATION:OPS – Central\, 1-2/F World Trust Tower\, 50 Stanley Street Central\,\, Hong Kong
CATEGORIES:CPT-6W,NASM
ATTACH;FMTTYPE=image/jpeg:https://opstudiohk.com/wp-content/uploads/2024/01/NASM-CPT-ENGLISH.jpg
ORGANIZER;CN="OPS Central":MAILTO:info@opstudiohk.com
GEO:22.2827827;114.1550532
X-APPLE-STRUCTURED-LOCATION;VALUE=URI;X-ADDRESS=OPS – Central 1-2/F World Trust Tower 50 Stanley Street Central Hong Kong;X-APPLE-RADIUS=500;X-TITLE=1-2/F World Trust Tower\, 50 Stanley Street Central\,:geo:114.1550532,22.2827827
END:VEVENT
BEGIN:VEVENT
DTSTART;TZID=Asia/Hong_Kong:20250302T090000
DTEND;TZID=Asia/Hong_Kong:20250309T170000
DTSTAMP:20260423T023708
CREATED:20241112T074622Z
LAST-MODIFIED:20250225T100333Z
UID:10000561-1740906000-1741539600@opstudiohk.com
SUMMARY:Eleiko Weightlifting Level 1 Live Course
DESCRIPTION:Elevate Your Coaching Skills with Eleiko Weightlifting Level 1 Live Course\nJoin the Eleiko Weightlifting Level 1 Live Course\nThe Eleiko Weightlifting Level 1 live course is meticulously crafted to help you develop a profound understanding of effective instruction\, cueing\, and feedback. This course provides a structured system for assessing and progressing both novice and advanced weightlifters. \nDiscover the Eleiko Learning System\nEleiko is setting a new standard in education with a comprehensive range of programs that seamlessly blend in-depth written course content with a hands-on approach to lifting proficiency\, program development\, and coaching excellence. Our Eleiko Learning System combines innovative learning design with effective instructional strategies\, creating the most engaging\, learner-centric experience available for Olympic lifting\, powerlifting\, and functional strength training. \nCompetency-Based Curriculum\nOur curriculum is designed to be competency-based\, enabling participants to immediately apply their skills and knowledge to enhance the success of their athletes\, members\, and themselves. At Eleiko\, our passion for strength\, performance\, and equipment is matched only by our education team’s commitment to quality teaching. We focus on teaching how to teach\, not just what to teach. \nEleiko Weightlifting Level 1 Live Course Overview\nOur two-day course is designed to upskill coaches in coaching techniques\, technical movement\, and programming for weightlifting. Participants will be introduced to essential weightlifting movements\, including the snatch and clean & jerk\, as well as front and overhead squats. Additionally\, the course covers the fundamentals necessary to build basic weightlifting training programs and integrate weightlifting into traditional programming. \nKey Learning Outcomes\nDuring this course\, you will: \n\nMaster Proper Lifting Technique: Utilize stance\, grip\, position\, and action to instruct proper lifting techniques.\nIdentify and Correct Compensations: Uncover a simple framework to systematically spot\, adjust\, and correct lifting compensations.\nManipulate Program Variables: Learn how to adjust acute variables of a program to achieve desired outcomes.\n\nLearning Objectives\nBy the end of the course\, you will be able to: \n\nConfidently and systematically progress novice or advanced lifters through weightlifting movements.\nPractice various movement screens to determine an individual’s appropriate starting point.\nIdentify compensations and understand their impact on lifting mechanics.\nUtilize a framework for addressing compensations and enhancing lifting performance.\n\nCourse Content Breakdown\n\nIntroduction & Performance\nWeightlifting Movement Screens\nThe Snatch\nThe Clean\nThe Jerk\nCoaching Techniques\nLifting from the Floor\nCompensations and Corrections\nCoaching to Address Compensations\nCoaching Activities\nProgramming\, Placement\, and Progressions\n\nWhat’s Included\n\nTwo days of live education (16 hours total)\nEleiko Weightlifting Level 1 Certificate for CEUs\nComprehensive course manual\n\nWhat to Bring\nParticipants are encouraged to bring: \n\nAppropriate clothing and attire for movement and hands-on time with equipment\nAny learning tools (electronic devices or written materials)\n\nAdditional Information:\n\nOther Eleiko Education Courses\nGet Eleiko Equipments
URL:https://opstudiohk.com/opscourse/ele-wlv1-e-2503-ctl/
LOCATION:OPS – Central\, 1-2/F World Trust Tower\, 50 Stanley Street Central\,\, Hong Kong
CATEGORIES:Eleiko,Weightlifting Level One
ATTACH;FMTTYPE=image/png:https://opstudiohk.com/wp-content/uploads/2023/07/Live-Elieko-Weightlifting-L1.png
ORGANIZER;CN="OPS Central":MAILTO:info@opstudiohk.com
GEO:22.2827827;114.1550532
X-APPLE-STRUCTURED-LOCATION;VALUE=URI;X-ADDRESS=OPS – Central 1-2/F World Trust Tower 50 Stanley Street Central Hong Kong;X-APPLE-RADIUS=500;X-TITLE=1-2/F World Trust Tower\, 50 Stanley Street Central\,:geo:114.1550532,22.2827827
END:VEVENT
BEGIN:VEVENT
DTSTART;TZID=Asia/Hong_Kong:20250316T090000
DTEND;TZID=Asia/Hong_Kong:20250323T190000
DTSTAMP:20260423T023708
CREATED:20250102T045949Z
LAST-MODIFIED:20251110T052437Z
UID:10000577-1742115600-1742756400@opstudiohk.com
SUMMARY:NASM-CPT Certified Personal Trainer Course (2 Day): English
DESCRIPTION:This live course has passed. Please click the following link to find our upcoming NASM Live Courses.\nLink to Upcoming NASM Live Course Schedule\nNo other fitness-professional course so powerfully fuses science and practical application! The rapid growth of the personal-training industry has spurred a multitude of approaches to fitness education and training. Setting the international standard for the industry\, NASM has developed a comprehensive system that integrates proven techniques and real science into one easy-to-use\, universal programming method – Optimum Performance Training (OPT™). From kinetic chain assessments through integrated programme design\, students explore the science behind NASM’s unique OPT™ model and gain a dynamic understanding of the systems and techniques used to design safe\, effective programs for clients of all levels. \nThe course includes: \n\nLive workshop on Sunday from 9:00am to 7:00pm\nDate: March 16 & 23\, 2025\nNASM-CPT textbook\nNASM-CPT online video support\nUnlimited Online Practice Exams\nOnline Final Exam (3 attempts)\n\nThese courses are held at our Central Studio \nRemark: All online material can only be accessed using a desktop or laptop computer. iPhone\, iPad\, Windows Phone or Android devices are not supported.
URL:https://opstudiohk.com/opscourse/nasm-cpt2d-e-2503-ctl/
LOCATION:OPS – Central\, 1-2/F World Trust Tower\, 50 Stanley Street Central\,\, Hong Kong
CATEGORIES:CPT-2D,NASM
ATTACH;FMTTYPE=image/jpeg:https://opstudiohk.com/wp-content/uploads/2022/08/NASM-CPT-Live.jpg
ORGANIZER;CN="OPS Central":MAILTO:info@opstudiohk.com
GEO:22.2827827;114.1550532
X-APPLE-STRUCTURED-LOCATION;VALUE=URI;X-ADDRESS=OPS – Central 1-2/F World Trust Tower 50 Stanley Street Central Hong Kong;X-APPLE-RADIUS=500;X-TITLE=1-2/F World Trust Tower\, 50 Stanley Street Central\,:geo:114.1550532,22.2827827
END:VEVENT
BEGIN:VEVENT
DTSTART;TZID=Asia/Hong_Kong:20250324T180000
DTEND;TZID=Asia/Hong_Kong:20250324T213000
DTSTAMP:20260423T023708
CREATED:20250102T044914Z
LAST-MODIFIED:20250313T023151Z
UID:10000576-1742839200-1742851800@opstudiohk.com
SUMMARY:Adult CPR and AED
DESCRIPTION:The three and a half hour CPR course follows the latest guidelines by the American Heart Association and will focus on Adult CPR and touch on the differences between infant and child CPR; rescue breathing; obstructed airway breathing; signs and symptoms of a heart attack as well introduce AEDs. The course will involve practical hands-on applications\, classroom lecture and video presentation. The course will involve a written exam and practical exam competed during the course. \nThe course is in cooperation with the American Academy of Orthopaedic Surgeons and the American College of Emergency Physicians and is valid for two years. The course fee includes a manual\, exam and certification fees. The course will be taught in English.
URL:https://opstudiohk.com/opscourse/ams-cpr-e-2503-ctl/
LOCATION:OPS – Central\, 1-2/F World Trust Tower\, 50 Stanley Street Central\,\, Hong Kong
CATEGORIES:CPR,CPR
ATTACH;FMTTYPE=image/jpeg:https://opstudiohk.com/wp-content/uploads/2023/12/CPR-AED.jpg
ORGANIZER;CN="OPS Central":MAILTO:info@opstudiohk.com
GEO:22.2827827;114.1550532
X-APPLE-STRUCTURED-LOCATION;VALUE=URI;X-ADDRESS=OPS – Central 1-2/F World Trust Tower 50 Stanley Street Central Hong Kong;X-APPLE-RADIUS=500;X-TITLE=1-2/F World Trust Tower\, 50 Stanley Street Central\,:geo:114.1550532,22.2827827
END:VEVENT
END:VCALENDAR