BEGIN:VCALENDAR
VERSION:2.0
PRODID:-//OPS - ECPv6.2.9//NONSGML v1.0//EN
CALSCALE:GREGORIAN
METHOD:PUBLISH
X-WR-CALNAME:OPS
X-ORIGINAL-URL:https://opstudiohk.com
X-WR-CALDESC:Events for OPS
REFRESH-INTERVAL;VALUE=DURATION:PT1H
X-Robots-Tag:noindex
X-PUBLISHED-TTL:PT1H
BEGIN:VTIMEZONE
TZID:Asia/Hong_Kong
BEGIN:STANDARD
TZOFFSETFROM:+0800
TZOFFSETTO:+0800
TZNAME:HKT
DTSTART:20220101T000000
END:STANDARD
END:VTIMEZONE
BEGIN:VEVENT
DTSTART;TZID=Asia/Hong_Kong:20221125T090000
DTEND;TZID=Asia/Hong_Kong:20221127T170000
DTSTAMP:20260424T233333
CREATED:20220819T063913Z
LAST-MODIFIED:20230221T115949Z
UID:10000307-1669366800-1669568400@opstudiohk.com
SUMMARY:REHAB Essentials - Hybrid Course
DESCRIPTION:Gain confidence and competence in dealing with pain and injury. This course is the foundational accreditation for learning R+E+H+A+B and working as an effective Rehab Trainer\, teaching you the knowledge\, skills and giving you the equipment\, to unofficially join the ‘rehab team’. Rehab Trainer is leading a fresh stream of education for the fitness industry: to create a new breed of Fitness Professional who is able to more effectively assess\, rehabilitate and prevent low risk injuries from developing during their training of clients. \nAfter completing the Rehab Essentials course\, Fitness Professionals will function according to the five-part “Rehab Trainer” model as a safe and effective method to achieve that goal. This model is quite distinct from the Physiotherapy model\, therefore preventing the concern that professional boundaries are being crossed. Rather Rehab Trainers seek to strengthen old boundaries: specifically\, that PT’s should never diagnose injuries\, should refer injuries that are high risk immediately to an allied health professional\, and should not engage in certain types of isolation exercises that are most effectively carried out by a physiotherapist. Therefore be assured – you are not attempting to become a Physiotherapist. You are becoming a more highly skilled Fitness Professional who has a new tool-box of skills with which to deal with the litany of small niggling injuries that plagues the fitness industry. \nLet’s be clear: you are NOT going to become a Physio by doing REHAB ESSENTIALS – instead you are becoming a new breed of exercise professional – specialised and extremely effective.  Most graduates of REHAB ESSENTIALS are in high demand for their new skills and the role they can now play as part of the broader “Rehab Team”. \nThe three-day REHAB ESSENTIALS course is the foundation of your Rehab skillset. (It is also a pre-requisite for the Rehab Masterclass.) \n\nYOU WILL LEARN:\n\nexactly what to do when a client mentions their acute or chronic pain or injury in their spine\, lower or upper body\nthe unique R+E+H+A+B protocol\, which allows you to blend your new knowledge and skills into your existing training sessions with clients\nhow to screen a client’s injury to assess its “risk profile”\nto understand the biomechanics of the body better than most of your PT peers\nnew stretching\, trigger point\, and myofascial loosening techniques\nthe secret of developing rehab drills with the existing equipment in your gym; the right way to activate dormant stability muscles to promote safer training and rehab injuries\nhow to work with health professionals to fix injuries faster and develop a referral base\, and\nhow to effectively use your new Rehab Toolbox\, including Posture-pros\, Rehab Dowel\, Activation Tubing\, Risk Assessment Cards\, and Rehab Records.\n\nYOU WILL RECEIVE:\n\nGet the Posture Pro\, REHAB Wand and Activation Tubing\nExtensive practical sessions in the gym over three full days – with around 70% being practical learning working on other bodies to experience the techniques in person\, and the final 30% theory based learning\nUnlimited access to Rehab Express Online (worth $3200 alone!) you can access before and after your course to begin learning and warming up for the face-to-face 3-day practical course\nFull and extensive quality course manual in a hard-wearing binder for future reference with digital images for self-promotion as an “Accredited Rehab Trainer”\n15 CECs certificate of accreditation with Fitness Australia\, 2.8 credits with ACE\, 1.9 with NASM plus 16 CPD with REPS UK\, once final assessment is passed plus risk assessment laminated cards to carry with you on the gym floor\n3-month complimentary access to Club Rehab – an extensive and exclusive library of videos and eBooks for Rehab Trainers with sports injury articles written by Australian Sports Physiotherapists\, Ulrik Larsen and Chris Mallac with the ability to email any client injury questions to Rehab Trainer
URL:https://opstudiohk.com/opscourse/rehab-ess-2211-ctl/
LOCATION:OPS – Central\, 1-2/F World Trust Tower\, 50 Stanley Street Central\,\, Hong Kong
CATEGORIES:Hybrid Express,Rehab Training
ATTACH;FMTTYPE=image/jpeg:https://opstudiohk.com/wp-content/uploads/2022/08/Rehab-Trainer-Essential-Live.jpg
ORGANIZER;CN="OPS Central":MAILTO:info@opstudiohk.com
GEO:22.2827827;114.1550532
X-APPLE-STRUCTURED-LOCATION;VALUE=URI;X-ADDRESS=OPS – Central 1-2/F World Trust Tower 50 Stanley Street Central Hong Kong;X-APPLE-RADIUS=500;X-TITLE=1-2/F World Trust Tower\, 50 Stanley Street Central\,:geo:114.1550532,22.2827827
END:VEVENT
END:VCALENDAR