BEGIN:VCALENDAR
VERSION:2.0
PRODID:-//OPS - ECPv6.2.9//NONSGML v1.0//EN
CALSCALE:GREGORIAN
METHOD:PUBLISH
X-ORIGINAL-URL:https://opstudiohk.com
X-WR-CALDESC:Events for OPS
REFRESH-INTERVAL;VALUE=DURATION:PT1H
X-Robots-Tag:noindex
X-PUBLISHED-TTL:PT1H
BEGIN:VTIMEZONE
TZID:Asia/Hong_Kong
BEGIN:STANDARD
TZOFFSETFROM:+0800
TZOFFSETTO:+0800
TZNAME:HKT
DTSTART:20260101T000000
END:STANDARD
END:VTIMEZONE
BEGIN:VEVENT
DTSTART;TZID=Asia/Hong_Kong:20261218T090000
DTEND;TZID=Asia/Hong_Kong:20261221T173000
DTSTAMP:20260422T032213
CREATED:20251117T062821Z
LAST-MODIFIED:20251117T062821Z
UID:10000687-1797584400-1797874200@opstudiohk.com
SUMMARY:Exos Performance Mentorship Phase 2
DESCRIPTION:Exos Performance Mentorship Phase 2: Expand Your Coaching Skills\nExos Performance Mentorship Phase 2 further explores Exos methodology\, delving deeper into the art and science of coaching and its practical application on the field or in the gym. \nBuilding upon the foundational knowledge gained in Phase 1\, Exos Performance Mentorship Phase 2 is a comprehensive four-day course focused on elevating your expertise in the art and science of coaching. Designed for practitioners who have completed Phase 1 or the Exos Performance Specialist (XPS) Online Certification\, this mentorship is ideal for coaches\, trainers\, and sports scientists seeking to advance their coaching skills and lead athletes to achieve their highest potential. \nBlending theoretical knowledge and practical application\, Phase 2 equips participants with the tools to effectively instruct\, provide feedback\, and design training programs with an emphasis on advanced movement skills through the Technical\, Error\, Correction (TEC) Model; strength and power development; and Energy Systems Development (ESD) programming that targets the physiological needs of athletes. \nJoin us in Phase 2 to advance your coaching career\, deepen your understanding of performance training and recovery\, and learn directly from experienced coaches who implement these same skills in their daily practices. \nLearning Objective:\n\nIntroduction to the the Art and Science of Coaching\, focusing on effective instruction\, feedback\, and practice design\nLearn the Technical\, Error\, Correction (TEC) model and its application to all movements including acceleration\, linear and multidirectional speed training\nExplore the difference between open and closed skills through practice design\nIdentify different strength qualities and how to target each of them to enhance performance\nExplore the difference between extensive and intensive training sessions through practicals\nLearn the practical application of internal and external instructions\nDevelop comprehensive strength and power programs that address specific athlete needs\nExplore how to design and implement Energy Systems Development (ESD) programs to elicit different physiological responses and optimize performance and recovery\nLearn the practical application of the different types of augmented feedback\nEnhance communication strategies to effectively convey complex ideas and foster athlete development\nCoach a short training session and receive feedback from peers and lead instructor\n\nPrerequisite:\n\nCompleted Exos Performance Mentorship Phase 1 Training or Exos Performance Specialist Certification\n\nEvent Venue:\n\nTo be confirmed\n\nWhat you Receive:\n\n4-days of live Exos education\nExos T-shirt\nExos Notebook\n4 days light lunch\n\nCEUS:\n\nNASM 1.9 and ACSM 22.0\n\nCourse Fees:\n\nHKD $11\,300 for registrations before November 17\, 2026\nHKD $12\,900 for registrations on November 18\, 2026\, and onward\n\nAdditional Information:\n\nUpcoming Schedule of Exos Live Training in Asia\nLearn more about Exos Education
URL:https://opstudiohk.com/opscourse/exos-pm2-e-2612-kts/
LOCATION:TBC\, Hong Kong
CATEGORIES:Exos
ATTACH;FMTTYPE=image/jpeg:https://opstudiohk.com/wp-content/uploads/2025/11/Exos-Performance-Mentorship-Phase-2.jpg
ORGANIZER;CN="OPS Central":MAILTO:info@opstudiohk.com
END:VEVENT
END:VCALENDAR