BEGIN:VCALENDAR
VERSION:2.0
PRODID:-//OPS - ECPv6.2.9//NONSGML v1.0//EN
CALSCALE:GREGORIAN
METHOD:PUBLISH
X-WR-CALNAME:OPS
X-ORIGINAL-URL:https://opstudiohk.com
X-WR-CALDESC:Events for OPS
REFRESH-INTERVAL;VALUE=DURATION:PT1H
X-Robots-Tag:noindex
X-PUBLISHED-TTL:PT1H
BEGIN:VTIMEZONE
TZID:Asia/Hong_Kong
BEGIN:STANDARD
TZOFFSETFROM:+0800
TZOFFSETTO:+0800
TZNAME:HKT
DTSTART:20250101T000000
END:STANDARD
END:VTIMEZONE
BEGIN:VEVENT
DTSTART;TZID=Asia/Hong_Kong:20251012T090000
DTEND;TZID=Asia/Hong_Kong:20251012T170000
DTSTAMP:20260421T202520
CREATED:20250825T062015Z
LAST-MODIFIED:20250828T082655Z
UID:10000669-1760259600-1760288400@opstudiohk.com
SUMMARY:TRX STC : English
DESCRIPTION:Designed by experts for the fitness professional who wants to harness the full potential of the TRX Suspension Trainer\, this course teaches you how to incorporate the TRX into your clients’ programs and how to grow your training business. In this class you’ll learn over 70 TRX exercises\, in detail\, as well as all the benefits and target muscles of the exercises; how to properly perform and “cue” the exercise; and modifications and progressions to adapt the exercises to every fitness level. You’ll also learn how to design your own TRX programs by following suspension training principles\, using smart TRX exercise selection\, and studying case scenarios to challenge your knowledge. After completing the course participants should be able to: \n\nUnderstand why TRX Suspension Training is a unique training method for sports performance and general fitness\nUnderstand the proper assembly of the TRX in a variety of situations\nBe able to utilize the TRX efficiently and effectively in one-on-one training and small group\n\nCourse Materials: Participants will receive a TRX Suspension Training Course manual.
URL:https://opstudiohk.com/opscourse/trx-stc-e-2510-tst/
LOCATION:OPS – Tsim Sha Tsui\, 16/F\, CheukNang Centre\, 9 Hillwood Road\, Tsim Sha Tsui\, Hong Kong
CATEGORIES:Promotion,STC,TRX
ATTACH;FMTTYPE=image/jpeg:https://opstudiohk.com/wp-content/uploads/2022/08/TRX-STC-Live-1.jpg
ORGANIZER;CN="OPS Tsim Sha Tsui":MAILTO:info.tst@opstudiohk.com
GEO:22.3028511;114.1726897
X-APPLE-STRUCTURED-LOCATION;VALUE=URI;X-ADDRESS=OPS – Tsim Sha Tsui 16/F CheukNang Centre 9 Hillwood Road Tsim Sha Tsui Hong Kong;X-APPLE-RADIUS=500;X-TITLE=16/F\, CheukNang Centre\, 9 Hillwood Road:geo:114.1726897,22.3028511
END:VEVENT
BEGIN:VEVENT
DTSTART;TZID=Asia/Hong_Kong:20250223T090000
DTEND;TZID=Asia/Hong_Kong:20250223T170000
DTSTAMP:20260421T202520
CREATED:20241204T033505Z
LAST-MODIFIED:20250107T093359Z
UID:10000572-1740301200-1740330000@opstudiohk.com
SUMMARY:TRX FTC TRX功能性運動訓練課程
DESCRIPTION:參加者將會學到如何運用TRX懸吊系統及彈力棍系統上運用TRX基本運動訓練方法來教導及進行調節，然後應用於各種訓練設備上。除了懸吊訓練及彈力棍訓練外，其他訓練方法包括: 啞鈴、藥球、沙包、戰繩及帶。 \n完成課程後，參加者可以: \n\n將基本訓練方法應用在TRX懸吊系統及TRX彈力棍系統上，以更好地調節不同的訓練強度。\n整合進階的TRX教導及提示技巧。\n領導預先的計劃、多元化形態及循環訓練。\n\n當參加者完成TRX®功能性運動訓練課程後，將收到TRX電子版的資格認證，可打印出來作為記錄並兌換成CECs。參加者可在資格認證中找到提供者編號和學分，並在提供者的網站上兌換。 \nParticipants will learn to leverage TRX’s movement based training approach on the TRX Suspension Trainer and RIP Trainer to teach Foundational Movements and progressions and then apply to a variety of training equipment. Beyond Suspension Training and Rip Training\, these other modalities may include: Kettlebells\, Medicine Balls\, Sandbags\, Battling Ropes and Bands. \nUpon competition of this course you will be able to: \n\nApply foundational movement methodology on the TRX Suspension Trainer and TRX Rip Trainer to better modify intensity for a variety of modalities\nIntegrate advanced TRX coaching and cueing techniques\nLead pre-programmed\, multimodality\, circuit-based training workouts\n\nUpon completion of a TRX® Functional Training Course\, you will receive an electronic version of your TRX Qualification\, which can be printed for your records and redeemed for CECs. The provider number and number of credits can be found on your Qualification and redeemed on the provider’s website.
URL:https://opstudiohk.com/opscourse/trx-ftc-c-2502-tst/
LOCATION:OPS – Tsim Sha Tsui\, 16/F\, CheukNang Centre\, 9 Hillwood Road\, Tsim Sha Tsui\, Hong Kong
CATEGORIES:FTC,Promotion,TRX
ATTACH;FMTTYPE=image/jpeg:https://opstudiohk.com/wp-content/uploads/2024/04/TRX-Functional-Training.jpg
ORGANIZER;CN="OPS Tsim Sha Tsui":MAILTO:info.tst@opstudiohk.com
GEO:22.3028511;114.1726897
X-APPLE-STRUCTURED-LOCATION;VALUE=URI;X-ADDRESS=OPS – Tsim Sha Tsui 16/F CheukNang Centre 9 Hillwood Road Tsim Sha Tsui Hong Kong;X-APPLE-RADIUS=500;X-TITLE=16/F\, CheukNang Centre\, 9 Hillwood Road:geo:114.1726897,22.3028511
END:VEVENT
END:VCALENDAR