BEGIN:VCALENDAR
VERSION:2.0
PRODID:-//OPS - ECPv6.2.9//NONSGML v1.0//EN
CALSCALE:GREGORIAN
METHOD:PUBLISH
X-ORIGINAL-URL:https://opstudiohk.com
X-WR-CALDESC:Events for OPS
REFRESH-INTERVAL;VALUE=DURATION:PT1H
X-Robots-Tag:noindex
X-PUBLISHED-TTL:PT1H
BEGIN:VTIMEZONE
TZID:Asia/Hong_Kong
BEGIN:STANDARD
TZOFFSETFROM:+0800
TZOFFSETTO:+0800
TZNAME:HKT
DTSTART:20240101T000000
END:STANDARD
END:VTIMEZONE
BEGIN:VEVENT
DTSTART;TZID=Asia/Hong_Kong:20260222T090000
DTEND;TZID=Asia/Hong_Kong:20260222T180000
DTSTAMP:20260420T193112
CREATED:20251223T083352Z
LAST-MODIFIED:20260221T021443Z
UID:10000698-1771750800-1771783200@opstudiohk.com
SUMMARY:Fluid X 基礎教練培訓課程 Fluid X Foundation Coaching Course
DESCRIPTION:Fluid X 基礎教練培訓課程 \n課程簡介 \n\n課程時長：八小時實體課程\n核心器材：Fluid X流體水球\n目標: 運用Fluid X 流體水袋去提升教學專業性，增強學員全身力量、穩定性、活動度與身體覺察能力\n\n課程內容 \n\nFluid X 流體水球訓練系統\n\n\nFluid X流體水球訓練超過900種動作模式\n適用於體適能、重量訓練、普拉提、有氧訓練等\n比傳統固定重量訓練更接近日常生活的不規則負荷\n\n\n學習重點\n\n\nFluid X流體水球重量與流體阻力原理\n教學口令與模組\n功能性基礎動作、動作評估與分析\n動態與靜態伸展、運動控制技術\n核心訓練系統（CTS）與四象限流體訓練（FXTS）\n\n適合對象 \n\n⁠教練: 健身、團課、⁠瑜伽及普拉提教練\n專業運動員及銀髮族\n\n課程資訊 \n\n日期：2026年2月22日\n時間：上午9:00–下午6:00\n地點：香港中環士丹利街50號信誠廣場1 & 2樓\, Optimum Performance Studio\n\n參與者將收到： \n\n課程證書（可在國際上教授任何Fluid X課堂）\n課程手冊\nCEU：NASM (0.8)、AFAA (0.8)\nFluid X流體水球 (Tank 15) 一個
URL:https://opstudiohk.com/opscourse/flx-fdn-c-2602-tst/
LOCATION:OPS – Central\, 1-2/F World Trust Tower\, 50 Stanley Street Central\,\, Hong Kong
CATEGORIES:Fluid X,FX Foundation
ATTACH;FMTTYPE=image/jpeg:https://opstudiohk.com/wp-content/uploads/2025/08/Fluid-X-Group.jpg
ORGANIZER;CN="OPS Central":MAILTO:info@opstudiohk.com
GEO:22.2827827;114.1550532
X-APPLE-STRUCTURED-LOCATION;VALUE=URI;X-ADDRESS=OPS – Central 1-2/F World Trust Tower 50 Stanley Street Central Hong Kong;X-APPLE-RADIUS=500;X-TITLE=1-2/F World Trust Tower\, 50 Stanley Street Central\,:geo:114.1550532,22.2827827
END:VEVENT
BEGIN:VEVENT
DTSTART;TZID=Asia/Hong_Kong:20251116T090000
DTEND;TZID=Asia/Hong_Kong:20251116T180000
DTSTAMP:20260420T193112
CREATED:20250808T060822Z
LAST-MODIFIED:20251022T045943Z
UID:10000655-1763283600-1763316000@opstudiohk.com
SUMMARY:Fluid X Foundation Coaching Course
DESCRIPTION:Get ready to move differently\, coach with purpose\, and lead with impact.\nThe Fluid X Foundation Coaching Course isn’t just about learning a new tool\, it’s about transforming the way you think\, train\, and teach. Through hands-on practice\, evidence-based principles\, and real-world coaching strategies\, you’ll be equipped to design purposeful workouts\, cue with confidence\, and adapt movement for any fitness level using Fluid X aqua bags. Whether you’re training one-on-one or leading a group\, this course empowers you to become a more versatile\, effective\, and engaging coach. \nLearning Objectives \nBy the end of the Fluid X Foundation Coaching Course\, participants will be able to: \n\n\n\nUnderstand the Fluid X Training Principles\nLearn and practise the Fluid X Core Training System\nApply the Fluid X Programming Model\nImplement the Fluid X Coaching Model (including the Tell–Show–Do approach)\nLearn and practise the Fluid X Movement Training System\n\n\n\nParticipants Will Receive: \n\nCertificate of Completion (eligible to teach any FX Classes internationally)\nCEUs: NASM (0.8)\, AFAA (0.8)\nCourse Manual\n1 Tank 15 Aqua Bag\n\nDate: November 16\, 2025\nTime: 9:00 AM – 6:00 PM\nLocation: Optimum Performance Studio – 2/F World Trust Tower\, 50 Stanley Street\, Central\, Hong Kong \nFluid X is recognized by the National Academy of Sports Medicine (NASM) as an Approved Continuing Education Provider.
URL:https://opstudiohk.com/opscourse/flx-fdn-e-2511-ctl/
LOCATION:OPS – Central\, 1-2/F World Trust Tower\, 50 Stanley Street Central\,\, Hong Kong
CATEGORIES:Fluid X,FX Foundation
ATTACH;FMTTYPE=image/jpeg:https://opstudiohk.com/wp-content/uploads/2025/08/Fluid-X-Group.jpg
ORGANIZER;CN="OPS Central":MAILTO:info@opstudiohk.com
GEO:22.2827827;114.1550532
X-APPLE-STRUCTURED-LOCATION;VALUE=URI;X-ADDRESS=OPS – Central 1-2/F World Trust Tower 50 Stanley Street Central Hong Kong;X-APPLE-RADIUS=500;X-TITLE=1-2/F World Trust Tower\, 50 Stanley Street Central\,:geo:114.1550532,22.2827827
END:VEVENT
BEGIN:VEVENT
DTSTART;TZID=Asia/Hong_Kong:20241117T090000
DTEND;TZID=Asia/Hong_Kong:20241117T180000
DTSTAMP:20260420T193112
CREATED:20240712T082637Z
LAST-MODIFIED:20240903T083255Z
UID:10000521-1731834000-1731866400@opstudiohk.com
SUMMARY:Fluid X Foundation Course
DESCRIPTION:Learn how to use water-filled weights to improve balance\, strength\, muscle imbalance\, power\, and agility. We provide fitness trainers with the foundations of instability training with Fluid X aqua bags. In this class\, you’ll learn over 50 FX exercises in detail\, including water modality\, type of exercise\, muscles worked\, benefits\, and suggested equipment. \nCourse Objectives: \n\nKnow how instability training works\nExplain the benefits of aqua bags\nDefine and differentiate the three water modalities\nPair the 6 main functional movements with the water modalities\nDesign your own program FX program\nInclude FX equipment in existing workout routines\n\nParticipants will receive: \n\nCertificate of completion to be able to teach any FX Classes internationally\nCEUs: NASM  (0.7)\, AFAA (7.0)\nCourse Manual\n1 Boba and 1 Tank 15\n\nParticipants will receive a written and practical exam at the end of the class: \n\nPassing Score: 70% or above\nNumber of attempts: 3\n\nDate: November 17\, 2024\nTime: 9:00 am – 6:00 pm\nLocation: Optimum Performance Studio – 2/F World Trust Tower\, 50 Stanley Street\, Central\, Hong Kong \nFluid X is recognized by the National Academy of Sports Medicine as an Approved Continuing Education Provider. 
URL:https://opstudiohk.com/opscourse/flx-fdn-2411-ctl/
LOCATION:OPS – Central\, 1-2/F World Trust Tower\, 50 Stanley Street Central\,\, Hong Kong
CATEGORIES:Fluid X,FX Foundation
ATTACH;FMTTYPE=image/jpeg:https://opstudiohk.com/wp-content/uploads/2024/07/Fluid-X-Foundation-Course.jpg
ORGANIZER;CN="OPS Central":MAILTO:info@opstudiohk.com
GEO:22.2827827;114.1550532
X-APPLE-STRUCTURED-LOCATION;VALUE=URI;X-ADDRESS=OPS – Central 1-2/F World Trust Tower 50 Stanley Street Central Hong Kong;X-APPLE-RADIUS=500;X-TITLE=1-2/F World Trust Tower\, 50 Stanley Street Central\,:geo:114.1550532,22.2827827
END:VEVENT
BEGIN:VEVENT
DTSTART;TZID=Asia/Hong_Kong:20240421T090000
DTEND;TZID=Asia/Hong_Kong:20240421T180000
DTSTAMP:20260420T193112
CREATED:20240117T093536Z
LAST-MODIFIED:20240408T053707Z
UID:10000476-1713690000-1713722400@opstudiohk.com
SUMMARY:Fluid X Foundation Course
DESCRIPTION:Learn how to use water-filled weights to improve balance\, strength\, muscle imbalance\, power\, and agility. We provide fitness trainers with the foundations of instability training with Fluid X aqua bags. In this class\, you’ll learn over 50 FX exercises in detail\, including water modality\, type of exercise\, muscles worked\, benefits\, and suggested equipment. \nCourse Objectives: \n\nKnow how instability training works\nExplain the benefits of aqua bags\nDefine and differentiate the three water modalities\nPair the 6 main functional movements with the water modalities\nDesign your own program FX program\nInclude FX equipment in existing workout routines\n\nParticipants will receive: \n\nCertificate of completion to be able to teach any FX Classes internationally\nCEUs: NASM  (0.7)\, AFAA (7.0)\nCourse Manual\n1 Boba and 1 Tank 15\n\nParticipants will receive a written and practical exam at the end of the class: \n\nPassing Score: 70% or above\nNumber of attempts: 3\n\nDate: April 21\, 2024\nTime: 9:00 am – 6:00 pm\nLocation: Optimum Performance Studio – 2/F World Trust Tower\, 50 Stanley Street\, Central\, Hong Kong \nFluid X is recognized by the National Academy of Sports Medicine as an Approved Continuing Education Provider. 
URL:https://opstudiohk.com/opscourse/flx-fdn-2404-ctl/
LOCATION:OPS – Central\, 1-2/F World Trust Tower\, 50 Stanley Street Central\,\, Hong Kong
CATEGORIES:Fluid X,FX Foundation
ATTACH;FMTTYPE=image/jpeg:https://opstudiohk.com/wp-content/uploads/2024/04/Fluid-X-.jpg
ORGANIZER;CN="OPS Central":MAILTO:info@opstudiohk.com
GEO:22.2827827;114.1550532
X-APPLE-STRUCTURED-LOCATION;VALUE=URI;X-ADDRESS=OPS – Central 1-2/F World Trust Tower 50 Stanley Street Central Hong Kong;X-APPLE-RADIUS=500;X-TITLE=1-2/F World Trust Tower\, 50 Stanley Street Central\,:geo:114.1550532,22.2827827
END:VEVENT
END:VCALENDAR