BEGIN:VCALENDAR
VERSION:2.0
PRODID:-//OPS - ECPv6.2.9//NONSGML v1.0//EN
CALSCALE:GREGORIAN
METHOD:PUBLISH
X-ORIGINAL-URL:https://opstudiohk.com
X-WR-CALDESC:Events for OPS
REFRESH-INTERVAL;VALUE=DURATION:PT1H
X-Robots-Tag:noindex
X-PUBLISHED-TTL:PT1H
BEGIN:VTIMEZONE
TZID:Asia/Hong_Kong
BEGIN:STANDARD
TZOFFSETFROM:+0800
TZOFFSETTO:+0800
TZNAME:HKT
DTSTART:20260101T000000
END:STANDARD
END:VTIMEZONE
BEGIN:VEVENT
DTSTART;TZID=Asia/Hong_Kong:20260528T183000
DTEND;TZID=Asia/Hong_Kong:20260702T213000
DTSTAMP:20260425T055726
CREATED:20260402T091829Z
LAST-MODIFIED:20260402T091829Z
UID:10000728-1779993000-1783027800@opstudiohk.com
SUMMARY:NASM-CPT Certified Personal Trainer Course: English
DESCRIPTION:No other fitness-professional course so powerfully fuses science and practical application! The rapid growth of the personal-training industry has spurred a multitude of approaches to fitness education and training. Setting the international standard for the industry\, NASM has developed a comprehensive system that integrates proven techniques and real science into one easy-to-use\, universal programming method – Optimum Performance Training (OPT™). From kinetic chain assessments through integrated programme design\, students explore the science behind NASMs unique OPT™ model and gain a dynamic understanding of the systems and techniques used to design safe\, effective programs for clients of all levels.  \nThe course includes: \n\nLive workshop 6 Thursday nights from 6:30 pm to 9:30 pm\nDates: May 28\, Jun 4\, 11\, 18\, 25 & Jul 2\, 2026\nTextbook: NASM Essentials of Personal Fitness Training\nNASM-CPT online video support\nUnlimited Online Practice Exams\nOnline Final Exam (3 attempts)\n\nThese courses are held at our Central Studio
URL:https://opstudiohk.com/opscourse/nasm-cpt-e-2605-ctl/
LOCATION:OPS – Central\, 1-2/F World Trust Tower\, 50 Stanley Street Central\,\, Hong Kong
CATEGORIES:CPT-6W,NASM
ATTACH;FMTTYPE=image/jpeg:https://opstudiohk.com/wp-content/uploads/2024/01/NASM-CPT-ENGLISH.jpg
ORGANIZER;CN="OPS Central":MAILTO:info@opstudiohk.com
GEO:22.2827827;114.1550532
X-APPLE-STRUCTURED-LOCATION;VALUE=URI;X-ADDRESS=OPS – Central 1-2/F World Trust Tower 50 Stanley Street Central Hong Kong;X-APPLE-RADIUS=500;X-TITLE=1-2/F World Trust Tower\, 50 Stanley Street Central\,:geo:114.1550532,22.2827827
END:VEVENT
BEGIN:VEVENT
DTSTART;TZID=Asia/Hong_Kong:20260531T090000
DTEND;TZID=Asia/Hong_Kong:20260607T170000
DTSTAMP:20260425T055726
CREATED:20260415T032247Z
LAST-MODIFIED:20260417T041820Z
UID:10000733-1780218000-1780851600@opstudiohk.com
SUMMARY:Stick Mobility 一級證書課程
DESCRIPTION:Stick Mobility 一級證書課程是為期兩天的實體證書課程，旨在教授以訓練棒為核心工具的動作整合訓練系統。課程結合關節活動度訓練、全身性力量整合與主動伸展技巧，幫助學員提升柔軟度、穩定性、動作控制與身體覺察力。 \n透過本課程，您將學會如何使用 Stick Mobility 訓練棒改善活動範圍、激活肌群、建立全身協調與力線連結，並能有效整合進個人或團體訓練課程中。 \nLevel 1\n\nStick Mobility 三大訓練階段教學：\n\n\n\n\n關節動態啟動（Joint Mobilization）\n整合性力量訓練（Strength Training）\n主動伸展與控制（Active Stretching）\n\n\n\n\nStick Mobility 五大科學訓練原則\n專業運動員與物理治療師使用的熱身與恢復技巧\n如何將 Stick Mobility 系統應用於：\n\n\n\n\n一對一訓練\n小團體課程\n不同族群之功能性訓練需求\n動作模式品質的辨識與改善策略\n\n\n\nL1 適合對象\n\n私人教練 / 健身教練\n體能訓練師\n物理治療師 / 復健師\n脊椎神經治療師\n瑜伽與皮拉提斯老師\n運動表現領域工作者\n欲提升自我活動能力與動作理解之個人學習者\n\n無論您是初學者還是已有 Stick Mobility 使用經驗者，皆歡迎參與。本課程亦適合不同年齡與身體活動程度之學員。 \nStick Mobility 訓練棒三件組（2長棒 + 1短棒）\n專業運動員與教練信賴的訓練工具，打造強健、靈活、不易受傷的身體。  \nStick Mobility 三件組包含 兩支長棒與一支短棒，結合多樣化的訓練模式，全面提升柔軟度、穩定性與動作協調能力，是實現身體優化與功能強化的理想方案。 \n🔹 完整的動作訓練系統\n可依照訓練需求，靈活運用「雙長棒」、「單長棒」與「短棒」組合，進行針對性全身訓練與動作控制練習。\n🔹 強化活動度與穩定性\n提升關節活動範圍，激活深層肌群，強化全身穩定力與核心控制，幫助改善動作品質，預防運動傷害。\n🔹 促進運動表現與恢復\n專為提升表現與加速恢復設計，適合於訓練前熱身、運動中訓練、與運動後恢復之使用。\n🔹 耐用設計，安心訓練\n美國製造、防水、防滑、易清潔。每支訓練棒配有矽膠防滑握把，提供穩固手感與舒適操作，讓每次使用皆具安全與效能。 \n參與者將收到：\n\nStick Mobility訓練棒：2 長和 1 短\nStick Mobility教練的 14 小時培訓\nStick Mobility Level 1 課程電子手冊\n永久線上培訓和輔導視頻使用權\n成為認證Stick Mobility教練，包括官方結業證書\nCEUs: AFAA 1.3\, NASM 1.3\, ISSA 14\, NCEP 1.3
URL:https://opstudiohk.com/opscourse/sti-lv1-c-2605-tst/
LOCATION:OPS – Tsim Sha Tsui\, 16/F\, CheukNang Centre\, 9 Hillwood Road\, Tsim Sha Tsui\, Hong Kong
CATEGORIES:Stick Mobility
ATTACH;FMTTYPE=image/jpeg:https://opstudiohk.com/wp-content/uploads/2026/02/Website-Course-Image-Mobility-Stick.jpg
ORGANIZER;CN="OPS Tsim Sha Tsui":MAILTO:info.tst@opstudiohk.com
GEO:22.3028511;114.1726897
X-APPLE-STRUCTURED-LOCATION;VALUE=URI;X-ADDRESS=OPS – Tsim Sha Tsui 16/F CheukNang Centre 9 Hillwood Road Tsim Sha Tsui Hong Kong;X-APPLE-RADIUS=500;X-TITLE=16/F\, CheukNang Centre\, 9 Hillwood Road:geo:114.1726897,22.3028511
END:VEVENT
BEGIN:VEVENT
DTSTART;TZID=Asia/Hong_Kong:20260605T183000
DTEND;TZID=Asia/Hong_Kong:20260717T213000
DTSTAMP:20260425T055726
CREATED:20260413T073145Z
LAST-MODIFIED:20260413T073246Z
UID:10000731-1780684200-1784323800@opstudiohk.com
SUMMARY:NASM-CPT 美國國家運動醫學學會 - 私人健身教練證書課程 ：廣東話授課
DESCRIPTION:美國國家運動醫學學會的私人健身教練證書課程是最有效地融合科學和實際應用的健身專業課程！私人健身教練培訓行業正快速增長，並帶動了無數的健身教育和培訓課程的發展。NASM憑著成熟的技術和科學整合成為一個易於使用及通用的編程方法綜合系統 – 最佳運動表現訓練（OPT™），並為健身行業定下國際標準。通過集成的課程設計方案和設計動力鏈的評估，學生在NASM-CPT這課程探究這獨特最佳運動表現訓練（OPT™）模型，系統及技巧的科學，從而懂得如何設計安全及有效的訓練計劃給不同程度的客人。 課程包括: \n\n廣東話課堂：6月5\, 12\, 26\, 7月3\, 10 及17日 (6月19日暫停)   時間由 6:30 pm 至 9:30 pm\n英文教科書：NASM Essentials of Personal Fitness Training\n英文網上視頻教學\n英文網上模擬考試練習 – 無限次數\n英文網上最終考試 – 3次\n\nNo other fitness-professional course so powerfully fuses science and practical application! The rapid growth of the personal-training industry has spurred a multitude of approaches to fitness education and training. Setting the international standard for the industry\, NASM has developed a comprehensive system that integrates proven techniques and real science into one easy-to-use\, universal programming method – Optimum Performance Training (OPT™). From kinetic chain assessments through integrated programme design\, students explore the science behind NASMs unique OPT™ model and gain a dynamic understanding of the systems and techniques used to design safe\, effective programs for clients of all levels. The course includes: \n\nLive workshop on Jun 5\, 12\, 26\, Jul 3\, 10 & 17 (No Class on Jun 19) from 6:30pm – 9:30pm\nTextbook: NASM Essentials of Personal Fitness Training\nNASM-CPT online video support\nUnlimited Online Practice Exams\nOnline Final Exam (3 attempts)\n\n 
URL:https://opstudiohk.com/opscourse/nasm-cpt-c-2606-ctl/
LOCATION:OPS – Central\, 1-2/F World Trust Tower\, 50 Stanley Street Central\,\, Hong Kong
CATEGORIES:CPT-6W,NASM
ATTACH;FMTTYPE=image/jpeg:https://opstudiohk.com/wp-content/uploads/2024/01/NASM-CPT-Chinese.jpg
ORGANIZER;CN="OPS Central":MAILTO:info@opstudiohk.com
GEO:22.2827827;114.1550532
X-APPLE-STRUCTURED-LOCATION;VALUE=URI;X-ADDRESS=OPS – Central 1-2/F World Trust Tower 50 Stanley Street Central Hong Kong;X-APPLE-RADIUS=500;X-TITLE=1-2/F World Trust Tower\, 50 Stanley Street Central\,:geo:114.1550532,22.2827827
END:VEVENT
END:VCALENDAR